BEGIN:VCALENDAR
VERSION:2.0
PRODID:-//wp-events-plugin.com//7.2.3.1//EN
TZID:Europe/Paris
X-WR-TIMEZONE:Europe/Paris
BEGIN:VEVENT
UID:88@fleurs2saison.fr
DTSTART;TZID=Europe/Paris:20211117T163000
DTEND;TZID=Europe/Paris:20211117T183000
DTSTAMP:20210708T131717Z
URL:https://fleurs2saison.fr/evenement/jardin-enchante-cours-dart-floral-a
 dulte/
SUMMARY:Jardin Enchanté (cours d'Art Floral adulte)
DESCRIPTION:Créez une composition allongée en fleurs coupées avec un esp
 rit enchanté grâce a un travail de fils de fer recouvert de corde et ent
 ortillés.\n\nDurée : environ 1h30-2h / Prix : 40€ par personne\n\n(Fle
 urs\, matériel et accessoires fournis) 6 personnes maximum\n\nINFO COVID1
 9: Le port du masque est obligatoire dés l'entrée dans la boutique et ju
 squ’à votre sortie. Une solution hydroalcoolique est mise a votre dispo
 sition a l'entrée du magasin ainsi que dans la salle de cours d'art flora
 l. La désinfection des mains est obligatoire.\nLa salle de cour est netto
 yé avant et après votre passage. Les outils sont nettoyé et désinfect
 é avant et après le cours.\n\n&nbsp\;\n\n\n\nPour Réserver:\nRemplissez
  le formulaire ci-dessous.\n\nSi vous possédez un bon cadeaux\, merci de 
 remplir la case "Code cadeau" avec le numéro de celui-ci. Si votre bon ca
 deau est d'un montant inférieur au montant du cours\, il faudra alors pro
 céder au règlement du montant restant (montant du cours - montant carte 
 cadeau)\n\nSi vous n'avez pas de carte cadeau\, procéder directement au r
 èglement du cours par Carte Bancaire. Paiement 100% sécurisé grâce a n
 otre partenaire "Stripe".\n\nUn mail de "confirmation" (après validation 
 de notre part) vous sera envoyé a l'adresse mail que vous aurait renseign
 é.\n\nNous comptons sur votre appel en cas d’impossibilité de dernièr
 e minute et nous nous engageons à vous restituer la totalité des sommes 
 versées en cas d’annulation de votre part (au maximum 72 heures avant) 
 ou de la notre.
CATEGORIES:Cours d'art Floral
END:VEVENT
BEGIN:VTIMEZONE
TZID:Europe/Paris
X-LIC-LOCATION:Europe/Paris
BEGIN:STANDARD
DTSTART:20211031T020000
TZOFFSETFROM:+0200
TZOFFSETTO:+0100
TZNAME:CET
END:STANDARD
END:VTIMEZONE
END:VCALENDAR