BEGIN:VCALENDAR
VERSION:2.0
PRODID:-//wp-events-plugin.com//7.2.3.1//EN
TZID:Europe/Paris
X-WR-TIMEZONE:Europe/Paris
BEGIN:VEVENT
UID:71@fleurs2saison.fr
DTSTART;TZID=Europe/Paris:20210609T163000
DTEND;TZID=Europe/Paris:20210609T183000
DTSTAMP:20201218T142419Z
URL:https://fleurs2saison.fr/evenement/plaisir-dete-cours-dart-floral-adul
 te/
SUMMARY:Plaisir d'été (cours d'Art Floral adulte)
DESCRIPTION:\n\nPour bien démarrer l’été et tous les plaisirs qui l’
 accompagnent\, nous réaliserons des cornets de glace (1boule) en fleurs. 
 Une composition rafraichissante et gourmande.\n\nDurée : environ 1h30-2h 
 / Prix : 45€ par personne\n\n(Fleurs\, matériel et accessoires fournis
 ) 4 personnes maximum\n\n&nbsp\;\n\n\n\nPour Réserver:\nRemplissez le for
 mulaire ci-dessous.\n\nSi vous possédez un bon cadeaux\, merci de remplir
  la case "Code cadeau" avec le numéro de celui-ci. Si votre bon cadeau es
 t d'un montant inférieur au montant du cours\, il faudra alors procéder 
 au règlement du montant restant (montant du cours - montant carte cadeau)
 \n\nSi vous n'avez pas de carte cadeau\, procéder directement au règleme
 nt du cours par Carte Bancaire. Paiement 100% sécurisé grâce a notre pa
 rtenaire "Stripe".\n\nUn mail de "confirmation" (après validation de notr
 e part) vous sera envoyé a l'adresse mail que vous aurait renseigné.\n\n
 Nous comptons sur votre appel en cas d’impossibilité de dernière minut
 e et nous nous engageons à vous restituer la totalité des sommes versée
 s en cas d’annulation de votre part (au maximum 72 heures avant) ou de l
 a notre.
CATEGORIES:Cours d'art Floral
LOCATION:Fleurs de Saison\, 189 Rue du Général de Gaulle\, Billy Berclau\
 , 62138\, France
X-APPLE-STRUCTURED-LOCATION;VALUE=URI;X-ADDRESS=189 Rue du Général de Gau
 lle\, Billy Berclau\, 62138\, France;X-APPLE-RADIUS=100;X-TITLE=Fleurs de 
 Saison:geo:0,0
END:VEVENT
BEGIN:VTIMEZONE
TZID:Europe/Paris
X-LIC-LOCATION:Europe/Paris
BEGIN:DAYLIGHT
DTSTART:20210328T030000
TZOFFSETFROM:+0100
TZOFFSETTO:+0200
TZNAME:CEST
END:DAYLIGHT
END:VTIMEZONE
END:VCALENDAR